BEGIN:VCALENDAR
VERSION:2.0
PRODID:-//ÖANCK - ECPv6.13.2.1//NONSGML v1.0//EN
CALSCALE:GREGORIAN
METHOD:PUBLISH
X-ORIGINAL-URL:http://oeanck.at
X-WR-CALDESC:Veranstaltungen für ÖANCK
REFRESH-INTERVAL;VALUE=DURATION:PT1H
X-Robots-Tag:noindex
X-PUBLISHED-TTL:PT1H
BEGIN:VTIMEZONE
TZID:UTC
BEGIN:STANDARD
TZOFFSETFROM:+0000
TZOFFSETTO:+0000
TZNAME:UTC
DTSTART:20230101T000000
END:STANDARD
END:VTIMEZONE
BEGIN:VEVENT
DTSTART;VALUE=DATE:20231013
DTEND;VALUE=DATE:20231015
DTSTAMP:20260424T140344
CREATED:20230531T075820Z
LAST-MODIFIED:20231006T080626Z
UID:1045-1697155200-1697327999@oeanck.at
SUMMARY:37. Jahrestagung der ÖANCK
DESCRIPTION:Die Zukunft in der Neurochirurgie\nDie diesjährige Jahrestagung findet gemeinsam mit der ÖGNC statt. Es dreht sich alles rund um das Thema “Die Zukunft in der Neurochirurgie”. \n  \nHier könnt Ihr euch das Programm ansehen. \nAchtung: Das neue Programm enthält zeitliche Änderungen! \n  \nIhr könnt eure Tickets gerne über das nachfolgende Feld reservieren. Bitte zahlt nach der Reservierung den Betrag je nach Ticket auf das Bankkonto der ÖANCK ein. Die genauen Daten findet ihr im Programm und im Impressum. \nBitte reserviert ein zusätzliches Ticket für die Teilnahme an der Abendveranstaltung.
URL:http://oeanck.at/event/37-jahrestagung-der-oeanck/
LOCATION:Hotel der Reschenhof\, Bundesstraße 7\, Mils\, 6068\, Österreich
ATTACH;FMTTYPE=image/jpeg:http://oeanck.at/wp-content/uploads/2023/05/csm_mils-der-reschenhof-reschenhof-neubau-mils-tirol-hotel_67f11e23d1.jpeg
END:VEVENT
END:VCALENDAR